BEGIN:VCALENDAR
VERSION:2.0
PRODID:-//Voel je goed coaching - ECPv6.15.20//NONSGML v1.0//EN
CALSCALE:GREGORIAN
METHOD:PUBLISH
X-WR-CALNAME:Voel je goed coaching
X-ORIGINAL-URL:https://www.voeljegoedcoaching.nl
X-WR-CALDESC:Evenementen voor Voel je goed coaching
REFRESH-INTERVAL;VALUE=DURATION:PT1H
X-Robots-Tag:noindex
X-PUBLISHED-TTL:PT1H
BEGIN:VTIMEZONE
TZID:UTC
BEGIN:STANDARD
TZOFFSETFROM:+0000
TZOFFSETTO:+0000
TZNAME:UTC
DTSTART:20230101T000000
END:STANDARD
END:VTIMEZONE
BEGIN:VEVENT
DTSTART;TZID=UTC:20260313T100000
DTEND;TZID=UTC:20260313T113000
DTSTAMP:20260420T101139
CREATED:20260122T173630Z
LAST-MODIFIED:20260122T175120Z
UID:3212-1773396000-1773401400@www.voeljegoedcoaching.nl
SUMMARY:Online workshop: De kracht van kwetsbaarheid
DESCRIPTION:Dit boek van Brené Brown veranderde mijn leven zo positief\, vandaar deze workshop De kracht van kwetsbaarheid.  Want iedereen heeft moeite om zich kwetsbaar op te stellen\, maar iedereen kan ook enorm veel fijner leven als we dit wél doen. Ik las dit boek niet alleen enthousiast: ik ging ernaar leven. Ik werd coach. En van daaruit kan ik de boodschap van dit boek krachtig uitstralen én heb ik al zoveel mensen inzichten gebracht\, vooral ook in hoe ze de kracht van kwetsbaarheid kunnen toepassen in hun eigen leven van alledag. Zoveel mooier wordt je leven dan! Als je durft…Maar daarvoor is juist deze workshop\, jij gaat het durven. Jij gaat het dóen. \nLet op: dit is een workshop van 4 ochtenden van 1 1/2 tot 2 uur\, de data zijn: 13 maart\, 27 maart\, 10 april\, 17 april. \nHeb de moed om niet perfect te willen zijn. Ga aan de slag met schaamte omzetten naar vertrouwen en eigenwaarde voelen. \nOp Zoom voeren gesprekken naar aanleiding van het boek (je hoeft dit zelf niet aan te schaffen)\, doen er oefeningen bij en ontdekken hoe je praktisch gezien hiermee aan de slag kunt in je eigen leven \nAan de orde komen: \n\nWelke rol kwetsbaarheid speelt in IEDERS leven.\nDe “terugtrektrigger” bij het voelen van kwetsbaarheid.\nWat je kunt doen om van terugtrekken naar verbonden voelen te gaan.\nHet positieve dat dat oplevert.\nHoeveel lichter het je leven maakt als je kunt leven volgens het “goed genoeg” principe.\n\n\nZodat we ons sterk kunnen voelen met en in onze kwetsbaarheid.\nZo’n mooie workshop om fijner te gaan leven!
URL:https://www.voeljegoedcoaching.nl/event/online-workshop-de-kracht-van-kwetsbaarheid/
LOCATION:Online
CATEGORIES:coaching,Eigenwaarde,kracht,Rust,vertrouwen,workshop,zelfbewustzijn,Zelfvertrouwen
ATTACH;FMTTYPE=image/jpeg:https://www.voeljegoedcoaching.nl/wp-content/uploads/2022/12/aleksandr-ledogorov-G-JJy-Yv_dA-unsplash-scaled.jpg
END:VEVENT
BEGIN:VEVENT
DTSTART;TZID=UTC:20260116T100000
DTEND;TZID=UTC:20260116T113000
DTSTAMP:20260420T101139
CREATED:20251211T112140Z
LAST-MODIFIED:20251211T112513Z
UID:3162-1768557600-1768563000@www.voeljegoedcoaching.nl
SUMMARY:Workshop Becoming via Zoom
DESCRIPTION:Voelen dat jouw wortels er al zijn. Durven groeien. Zijn wie jij in potentie al bent.\nDe online workshop Becoming is er voor jou en extra fijn zo aan het begin van het jaar. \nWant het is nu tijd.\nVoor jou ☀️ \nwww.voeljegoedcoaching.nl/agenda\nwww.voeljegoedcoaching.nl \nMeedoen met deze inspirerende workshop is nu wel heel makkelijk: fijn vanuit jouw eigen ruimte\, overal vandaan mogelijk online. \nOntdek meer eigenwaarde en zelfvertrouwen. Ga voelen dat jij jouw ruimte mag innemen. \nWe kijken naar wat er was. Ontdekken de kleine en grote dingen van eerder in ons leven. \nEn van nu. Hoe we kunnen bouwen en uitbouwen. \nIn vertrouwen. \nVanuit het moois dat een ieder in zich heeft. \nVoel de positieve bijdrage die jij te brengen hebt. \nVan verleden naar nu. In vertrouwen de toekomst tegemoet. \nWe doen opdrachten uit het boek “Becoming” van Michelle Obama en werken met oefeningen en materiaal van Voel je goed coaching. \nJe gaat gesterkt en geïnspireerd naar huis. \nOpgave: mail vóór 15 januari “Becoming” naar info@voeljegoedcoaching.nl \nJe ontvangt dan de Zoomlink. \nBenieuwd naar meer van dit soort workshops? \nKijk op https://www.voeljegoedcoaching.nl/workshops \nLiever individuele coaching? Maak een afspraak via het onlineplansysteem op mijn homepage: https://www.voeljegoedcoaching.nl of mail naar info@voeljegoedcoaching.nl \nSamen op weg naar fijner leven 👍 \n 
URL:https://www.voeljegoedcoaching.nl/event/workshop-becoming-via-zoom-2/
LOCATION:Online
CATEGORIES:coaching,Eigenwaarde,Online,vertrouwen,workshop
ATTACH;FMTTYPE=image/webp:https://www.voeljegoedcoaching.nl/wp-content/uploads/2024/01/IMG_20240119_072552_759.webp
END:VEVENT
BEGIN:VEVENT
DTSTART;TZID=UTC:20251216T133000
DTEND;TZID=UTC:20251216T153000
DTSTAMP:20260420T101139
CREATED:20250904T122711Z
LAST-MODIFIED:20251022T120345Z
UID:3146-1765891800-1765899000@www.voeljegoedcoaching.nl
SUMMARY:Creatieve coachingsworkshop: Licht
DESCRIPTION:Vandaag gaan we ideeën over ons leven opdoen én creatief aan de slag tijdens deze fijne creatieve coachingsworkshop: Licht. \nWant het is nu eens tijd voor jou en dus word jij in het licht gezet. \nWat betekent licht voor jou? Denk je in de zin van donker en licht of in zwaar en licht? En wat je ook denkt: hoe kunnen we ons leven lichter\, sprankelender maken? Waaraan hebben we behoefte in ons zelf ? Hoe kunnen we dat meer toelaten? Hoe kunnen we in het licht stappen\, het licht dat we zo verdienen? \nNa een inleidend verhaal en een paar fijne oefeningen waarbij je op ideeën komt over licht gaan dit visueel maken door heerlijk creatief bezig te zijn. Wat ga jij maken en hoe? Je kunt waterverven\, tekenen\, scrapbooken\, handletteren\, stempelen … Alle materialen zijn aanwezig en bij de prijs inbegrepen\, evenals de consumpties. \nErvaring hierin is zeker niet nodig\, je zult met een mooie\, persoonlijke creatie naar huis gaan. \nJe maakt iets op een blad dat je meeneemt naar huis om je steeds als je het ziet er weer aan te herinneren: \n\nLicht is er ook voor jou.\nHoe kan jij je lichter voelen?\nJij neemt je stappen naar meer licht.\n\nIk kijk er vast naar uit\, net als jij. \nDus geef je nu op (vóór 13 december) door te mailen naar info@voeljegoedcoaching.nl \nLiever individuele coaching? \nKijk op https://www.voeljegoedcoaching.nl en maak een afspraak. \nLijkt een andere workshop je fijner? Kijk dan op https://www.voeljegoedcoaching.nl/workshops of https:www.voeljegoedcoaching.nl/creatieve-coachingsworkshops \nen geef je keuze aan mij door. \n 
URL:https://www.voeljegoedcoaching.nl/event/creatieve-coachingsworkshop-licht-2/
LOCATION:Krimpen aan den IJssel
CATEGORIES:coaching,creativitiet,Eigenwaarde,kracht,ontspanning,Rust,vertrouwen,workshop
ATTACH;FMTTYPE=image/jpeg:https://www.voeljegoedcoaching.nl/wp-content/uploads/2024/09/licht-scaled.jpg
END:VEVENT
BEGIN:VEVENT
DTSTART;TZID=UTC:20251121T100000
DTEND;TZID=UTC:20251121T113000
DTSTAMP:20260420T101139
CREATED:20250904T121409Z
LAST-MODIFIED:20250904T124607Z
UID:3142-1763719200-1763724600@www.voeljegoedcoaching.nl
SUMMARY:Workshop Becoming via Zoom
DESCRIPTION:De workshop Becoming via Zoom! \nMeedoen met deze inspirerende workshop is nu wel heel makkelijk: fijn vanuit jouw eigen ruimte\, overal vandaan mogelijk online. \nOntdek meer eigenwaarde en zelfvertrouwen. Ga voelen dat jij jouw ruimte mag innemen. \nWe kijken naar wat er was. Ontdekken de kleine en grote dingen van eerder in ons leven. \nEn van nu. Hoe we kunnen bouwen en uitbouwen. \nIn vertrouwen. \nVanuit het moois dat een ieder in zich heeft. \nVoel de positieve bijdrage die jij te brengen hebt. \nVan verleden naar nu. In vertrouwen de toekomst tegemoet. \nWe doen opdrachten uit het boek “Becoming” van Michelle Obama en werken met oefeningen en materiaal van Voel je goed coaching. \nJe gaat gesterkt en geïnspireerd naar huis. \nOpgave: mail vóór 20 november “Becoming” naar info@voeljegoedcoaching.nl \nJe ontvangt dan de Zoomlink. \nBenieuwd naar meer van dit soort workshops? \nKijk op https://www.voeljegoedcoaching.nl/workshops \nLiever individuele coaching? Maak een afspraak via het onlineplansysteem op mijn homepage: https://www.voeljegoedcoaching.nl of mail naar info@voeljegoedcoaching.nl \nSamen op weg naar fijner leven. \n 
URL:https://www.voeljegoedcoaching.nl/event/workshop-becoming-via-zoom/
LOCATION:Online
CATEGORIES:coaching,Eigenwaarde,Online,vertrouwen,workshop
ATTACH;FMTTYPE=image/webp:https://www.voeljegoedcoaching.nl/wp-content/uploads/2024/01/IMG_20240119_072552_759.webp
END:VEVENT
BEGIN:VEVENT
DTSTART;TZID=UTC:20250908T130000
DTEND;TZID=UTC:20250908T150000
DTSTAMP:20260420T101139
CREATED:20250725T102845Z
LAST-MODIFIED:20250725T102845Z
UID:3080-1757336400-1757343600@www.voeljegoedcoaching.nl
SUMMARY:Creatieve coachingsworkshop Blossom
DESCRIPTION:Wil jij meer en meer opbloeien? Dan is het tijd voor deze creatieve coachingsworkshop Blossom (voor vrouwen). \nWat in jouw leven is nu een knop? Of misschien nog een zaadje? Je gaat het voelen tijdens deze workshop.\nWat wil je laten groeien? Hoe kan je dat doen?\nEn dan … in bloei staan. Je verdient het zo.\nDeze workshop zet jouw bloei in gang.\nNa het gedeelte over bewustwording gaan we natuurlijk creatief aan de slag. Om vorm te geven aan onze ideeën over bloei én … aan onze eigen bloei die nu\, op dit moment\, al onderweg is. \nEr zijn vele werkvormen mogelijk\, jij kiest zelf en hoeft geen ervaring te hebben met creatief bezig zijn.\nGa je waterverven\, tekenen\, scrapbooken\, stempelen\, wax seals maken?\nAlle materialen zijn aanwezig en bij de kosten inbegrepen.\nJe gaat met je eigen unieke creatie naar huis en zo kun je jezelf er altijd aan helpen herinneren hoe het ook alweer was als jij kiest voor jouw bloei. \nOp de locatie van Voel je goed coaching.\nDeelname alleen na opgave via info@voeljegoedcoaching.nl\, uiterlijk 6 september. \nLiever individuele coaching? Kijk op Voel je goed coaching en maak daar zelf handig online een afspraak of mail naar info@voeljegoedcoaching.nl \nMeer interesse voor een andere workshop? Kijk op creatieve coachingsworkshops of workshops en geef je hiervoor op met 2 tot 4 vrouwen. \nDe creatieve coachingsworkshops zijn ook geschikt te maken voor kinderen van 8 tot 18 jaar. Bespreek dan je eigen datum. Je doet dan zelf ook mee voor 25 euro\, kinderen voor 12\,50. Je zult er beiden moois uit halen.
URL:https://www.voeljegoedcoaching.nl/event/creatieve-coachingsworkshop-blossom-5/
LOCATION:Krimpen aan den IJssel
CATEGORIES:coaching,creativitiet,Eigenwaarde,kracht,ontspanning,Rust,vertrouwen,workshop,Zelfvertrouwen
ATTACH;FMTTYPE=image/jpeg:https://www.voeljegoedcoaching.nl/wp-content/uploads/2019/05/midres-Loet-2804.jpg
END:VEVENT
BEGIN:VEVENT
DTSTART;TZID=UTC:20250326T133000
DTEND;TZID=UTC:20250326T153000
DTSTAMP:20260420T101139
CREATED:20241203T111317Z
LAST-MODIFIED:20250210T160401Z
UID:2792-1742995800-1743003000@www.voeljegoedcoaching.nl
SUMMARY:Creatieve coachingsworkshop Blossom
DESCRIPTION:Wil jij meer en meer opbloeien? Dan is het tijd voor deze creatieve coachingsworkshop Blossom (voor vrouwen). \nWat in jouw leven is nu een knop? Of misschien nog een zaadje? Je gaat het voelen tijdens deze workshop.\nWat wil je laten groeien? Hoe kan je dat doen?\nEn dan … in bloei staan. Je verdient het zo.\nDeze workshop zet jouw bloei in gang.\nNa het gedeelte over bewustwording gaan we natuurlijk creatief aan de slag. Om vorm te geven aan onze ideeën over bloei én … aan onze eigen bloei die nu\, op dit moment\, al onderweg is. \nEr zijn vele werkvormen mogelijk\, jij kiest zelf en hoeft geen ervaring te hebben met creatief bezig zijn.\nGa je waterverven\, tekenen\, scrapbooken\, stempelen\, wax seals maken?\nAlle materialen zijn aanwezig en bij de kosten inbegrepen.\nJe gaat met je eigen unieke creatie naar huis en zo kun je jezelf er altijd aan helpen herinneren hoe het ook alweer was als jij kiest voor jouw bloei. \nOp de locatie van Voel je goed coaching.\nDeelname alleen na opgave via info@voeljegoedcoaching.nl\, uiterlijk 26 maart. \nLiever individuele coaching? Kijk op Voel je goed coaching en maak daar zelf handig online een afspraak of mail naar info@voeljegoedcoaching.nl \nMeer interesse voor een andere workshop? Kijk op creatieve coachingsworkshops of workshops en geef je hiervoor op met 2 tot 4 vrouwen. \nDe creatieve coachingsworkshops zijn ook geschikt te maken voor kinderen van 8 tot 18 jaar. Bespreek dan je eigen datum. Je doet dan zelf ook mee voor 25 euro\, kinderen voor 12\,50. Je zult er beiden moois uit halen.
URL:https://www.voeljegoedcoaching.nl/event/creatieve-coachingsworkshop-blossom-4/
LOCATION:Krimpen aan den IJssel
CATEGORIES:coaching,creativitiet,Eigenwaarde,kracht,ontspanning,Rust,vertrouwen,workshop,Zelfvertrouwen
ATTACH;FMTTYPE=image/jpeg:https://www.voeljegoedcoaching.nl/wp-content/uploads/2019/05/midres-Loet-2804.jpg
END:VEVENT
BEGIN:VEVENT
DTSTART;TZID=UTC:20250307T100000
DTEND;TZID=UTC:20250307T120000
DTSTAMP:20260420T101139
CREATED:20241203T103534Z
LAST-MODIFIED:20241203T113630Z
UID:2790-1741341600-1741348800@www.voeljegoedcoaching.nl
SUMMARY:Workshop Powervrouwen
DESCRIPTION:Op deze dag voor internationale vrouwendag: kom naar deze inspirerende workshop Powervrouwen (voor vrouwen).\nOf geef je interesse aan voor een online workshop. \nDeze workshop zal gaan over 5 powervrouwen\, ik vertel je kort hun verhaal en we zien daarbij een foto van hen.\nWe bespreken hun krachtpunten en leggen daarbij de koppeling naar jezelf:\nwat kan jij daarvan in je leven brengen?  \nBij iedere vrouw stel ik je vraag waarop je geen antwoord hoeft te hebben\, maar die je op een fijne manier aan het denken zet.\nJe lrijgt een overzicht mee zodat je achteraf altijd nog eens terug kunt kijken.  \nVind jouw inspirerende powervrouw en … ontdek die vrouw in jezelf. \nDeelname na aanmelding (voor 6 maart) via info@voeljegoedcoaching.nl\nOp de locatie van Voel je goed coaching in Krimpen aan den IJssel. \nVind je individuele coaching fijner? Kijk dan hier en maak jouw afspraak:\nVoel je goed coaching \nLiever een andere workshop? Kijk op workshops\nof op creatieve coachingsworkshops en geef je op met 2 tot 4 personen of geef je interesse aan\, dan maken we een groepje.  \nDe creatieve coachingsworkshops zijn ook mogelijk voor kinderen. Van 8 tot 18 jaar doen zij mee voor het halve tarief: 12\,50. Zelf doe je ook mee (25 euro)\, je zult er beiden moois uithalen. Bespreek hiervoor een eigen datum.
URL:https://www.voeljegoedcoaching.nl/event/workshop-powervrouwen/
LOCATION:Krimpen aan den IJssel
CATEGORIES:coaching,Eigenwaarde,kracht,Rust,Zelfvertrouwen
ATTACH;FMTTYPE=image/jpeg:https://www.voeljegoedcoaching.nl/wp-content/uploads/2017/02/444.jpg
END:VEVENT
BEGIN:VEVENT
DTSTART;TZID=UTC:20241206T100000
DTEND;TZID=UTC:20241206T123000
DTSTAMP:20260420T101139
CREATED:20240910T144146Z
LAST-MODIFIED:20241114T135841Z
UID:2699-1733479200-1733488200@www.voeljegoedcoaching.nl
SUMMARY:Creatieve coachingsworkshop: Licht
DESCRIPTION:Vandaag gaan we ideeën over ons leven opdoen én creatief aan de slag tijdens deze fijne creatieve coachingsworkshop: Licht. \nWant het is nu eens tijd voor jou en dus word jij in het licht gezet. \nWat betekent licht voor jou? Denk je in de zin van donker en licht of in zwaar en licht? En wat je ook denkt: hoe kunnen we ons leven lichter\, sprankelender maken? Waaraan hebben we behoefte in ons zelf ? Hoe kunnen we dat meer toelaten? Hoe kunnen we in het licht stappen\, het licht dat we zo verdienen? \nNa een inleidend verhaal en een paar fijne oefeningen waarbij je op ideeën komt over licht gaan dit visueel maken door heerlijk creatief bezig te zijn. Wat ga jij maken en hoe? Je kunt waterverven\, tekenen\, scrapbooken\, handletteren\, stempelen … Alle materialen zijn aanwezig en bij de prijs inbegrepen\, evenals de consumpties. \nErvaring hierin is zeker niet nodig\, je zult met een mooie\, persoonlijke creatie naar huis gaan. \nJe maakt iets op een blad dat je meeneemt naar huis om je steeds als je het ziet er weer aan te herinneren: \n\nLicht is er ook voor jou.\nHoe kan jij je lichter voelen?\nJij neemt je stappen naar meer licht.\n\nIk kijk er vast naar uit\, hopelijk jij/jullie ook 🙂 \nDus geef je nu op (voor 11 december) door te mailen naar info@voeljegoedcoaching.nl Wil je op een andere datum komen? Overleg over de mogelijkheden. \nDeze workshop is ook geschikt te maken voor kinderen vanaf 8 jaar. Boek een eigen moeder/oma/tante en kind datum. Je doet dan allebei mee en op elke leeftijd en niveau is er moois uit te halen. Voor kinderen (tot 18 jaar) geldt het halve tarief\, dus 20 euro. \n  \nLiever individuele coaching? \nKijk op https://www.voeljegoedcoaching.nl en maak een afspraak. \nLijkt een andere workshop je fijner? Kijk dan op https://www.voeljegoedcoaching.nl/workshops of https:www.voeljegoedcoaching.nl/creatieve-coachingsworkshops \nen geef je keuze aan mij door. \n 
URL:https://www.voeljegoedcoaching.nl/event/creatieve-coachingsworkshop-licht/
LOCATION:Krimpen aan den IJssel
CATEGORIES:coaching,creativitiet,Eigenwaarde,kracht,ontspanning,Rust,vertrouwen,workshop
ATTACH;FMTTYPE=image/jpeg:https://www.voeljegoedcoaching.nl/wp-content/uploads/2024/09/licht-scaled.jpg
END:VEVENT
BEGIN:VEVENT
DTSTART;TZID=UTC:20241129T100000
DTEND;TZID=UTC:20241129T120000
DTSTAMP:20260420T101139
CREATED:20240814T124655Z
LAST-MODIFIED:20241010T110546Z
UID:2695-1732874400-1732881600@www.voeljegoedcoaching.nl
SUMMARY:Workshop Microbreaks
DESCRIPTION:Wil jij al zo lang meer rust en ontspanning gaan toepassen in je dagelijkse leven? Dan is de workshop Microbreaks voor vrouwen iets voor jou. \nTijdens deze workshop gaan we heel praktisch aan de slag. Eerst doen we wat inzichten op over ritme en over hoe ontspanning werkt en dan: oefenen maar! Naast een wat langere ontspanningsoefening doen we veel korte\, handige oefeningen die jij meteen daarna steeds makkelijk zelf kunt doen. Want 2 of 3 minuten tussendoor gaat zeker lukken toch? Vanaf nu dus dóen\, super fijn voor de actievelingen onder ons 🙂 De oefeningen worden zittend op een stoel\, staand en lopend gedaan. \nDeze workshop Microbreaks is: \nOm je hoofd rustiger te maken. \nOm je lichaam rustiger te maken. \nOm je leven rustiger te maken. \nWe maken gebruik van het boek “Microbreaks” van Albert Sonnevelt en oefeningen van Voel je goed coaching. Je hoeft het boek niet te hebben om de workshop te kunnen volgen\, \nVragen en opgave (voor 27-11): info@voeljegoedcoaching.nl \nKan je niet op deze datum? Denk eerst eens aan een ochtendje vrij nemen 😉 Of laat het me gerust weten\, vanaf 2 personen regelen we een andere datum. \nLiever individuele coaching? Kijk op https://www.voeljegoedcoaching.nl en maak daar zelf handig online een afspraak voor een gratis en vrijblijvend kennismakingsgesprek. Of stuur mij hierover even een bericht. Ik coach zowel vanuit mijn praktijk als online. \nOp https://www.voeljegoedcoaching.nl/workshops \nen https://www.voeljegoedcoaching.nl/creatieve-coahingsworkshops vind je meer workshops\, maak je keuze en plan met mij in overleg (vanaf 2 personen).
URL:https://www.voeljegoedcoaching.nl/event/workshop-microbreaks-2/
CATEGORIES:coaching,Eigenwaarde,kracht,ontspanning,Rust
ATTACH;FMTTYPE=image/jpeg:https://www.voeljegoedcoaching.nl/wp-content/uploads/2020/11/eigenwaarde.jpg
END:VEVENT
BEGIN:VEVENT
DTSTART;TZID=UTC:20240913T100000
DTEND;TZID=UTC:20240913T123000
DTSTAMP:20260420T101139
CREATED:20240723T110159Z
LAST-MODIFIED:20240911T131841Z
UID:2665-1726221600-1726230600@www.voeljegoedcoaching.nl
SUMMARY:Creatieve-coachingsworkshop: Blossom
DESCRIPTION:Wat in jouw leven is nu een knop? Of misschien nog een zaadje? Je gaat het voelen tijdens deze creatieve-coachingsworkshop voor vrouwen: Blossom. \nWat wil je laten groeien? Hoe kan je dat doen? En dan … in bloei staan. Je verdient het zo. Deze workshop zet jouw bloei in gang. Na het gedeelte over bewustwording gaan we natuurlijk creatief aan de slag. Om vorm te geven aan onze ideeën over bloei én aan onze eigen bloei die nu\, op dit moment\, al onderweg is. \nEr zijn vele werkvormen mogelijk: ga je tekenen\, waterverven\, scrapbooken\, journallen\, stempelen\, wax seals maken\, handletteren … Je kiest zelf\, alle materialen zijn aanwezig en bij de prijs inbegrepen\, evenals koffie/thee/water en iets lekkers daarbij. \nWerk op een blad van hier of neem je eigen journal mee. Ervaring met creatief bezig zijn is helemaal niet nodig. Je zult plezier hebben in het creëren en met een mooie\, tastbare reminder naar huis gaan. \nDe workshops worden gehouden op de locatie van Voel je goed coaching: Boveneindselaan 80 in Krimpen aan den IJssel. \nVragen en opgave via info@voeljegoedcoaching.nl \nWil je deze workshop op een ander moment doen? Geef je op vanaf 2 personen of laat het me weten en we stellen een nieuw groepje samen. \nmet kinderen?\nHet is ook mogelijk deze workshop op een andere datum samen met je (klein)kind in te plannen: laat het me weten en ik pas het aan aan de leeftijd. Je haalt daar zeker ook zelf mooie inzichten uit 🙂 Kinderen vanaf 8 jaar en alleen onder begeleiding van een volwassene. De investering in jezelf is 40 euro\, voor kinderen 20 euro per persoon. \nLiever niet creatief bezig zijn maar wel op naar fijner leven? Kijk bij mijn andere workshops: \nhttps://www.voeljegoedcoaching.nl/workshops \nen geef je keuze aan mij door. \nMeer lezen over het nut van creativiteit? Klik op deze link (en zéker punt 2\, 3 en 4 gelden net zo goed voor volwassen 😉 ) \nhttps://www.jmouders.nl/voordelen-creatief-bezig-zijn-kind/
URL:https://www.voeljegoedcoaching.nl/event/creatieve-coachingsworkshop-blossom-3/
LOCATION:Krimpen aan den IJssel
CATEGORIES:coaching,creativitiet,Eigenwaarde,workshop
ATTACH;FMTTYPE=image/jpeg:https://www.voeljegoedcoaching.nl/wp-content/uploads/2022/11/hadis-malekie-EYl5U_-C-GU-unsplash-scaled.jpg
END:VEVENT
BEGIN:VEVENT
DTSTART;TZID=UTC:20240402T103000
DTEND;TZID=UTC:20240402T123000
DTSTAMP:20260420T101139
CREATED:20240320T075744Z
LAST-MODIFIED:20240320T075744Z
UID:2591-1712053800-1712061000@www.voeljegoedcoaching.nl
SUMMARY:Creatieve coachingsworkshop: Blossom
DESCRIPTION:Extra kans om mee te doen met deze creatieve coachingsworkshop Blossom! \nWat is er een knopje on jouw leven? Of misschien nog een zaadje? Ontdek het\, ga het voelen en laat het groeien tijdens deze creatieve coachingsworkshop: Blossom. Dmv gesprek\, beelden en een oefening ontdekken we wat bloei voor ons inhoudt en hoe we verder kunnen bloeien. Daarna geven we er beeldend vorm aan. Ga je waterverven\, tekenen\, scrapbooken\, stempelen\, handletteren? Je kiest zelf en maakt iets moois op papier: een blijvende reminder aan dat jij kan en zal bloeien. Ervaring met creatief bezig zijn is zeker niet nodig\, het gaat erom dat je voelt hoe fijn het is om creatief te zijn. En daarbij te gaan voor jouw bloei. \nJouw mogelijkheden gaan zien\, voelen\, de stappen naar bloei toe. In daadkracht én jezelf er de rust en tijd voor gunnen. Een mooie balans vinden. En daar nu en in de toekomst een beeld en vorm aan kunnen geven\, We ontdekken het samen tijdens ontspannen bezig zijn. \nAlle materialen zijn aanwezig en bij de prijs inbegrepen\, evenals koffie/thee/water en iets erbij. \nIn Krimpen aan den IJssel\, opgave via info@voeljegoedcoaching.nl ovv “Blossom”. \nLiever geen creatieve workshop? Kijk dan op https://www.voeljegoedcoaching.nl/workshops en geef je op voor een workshop. \nVind je individueel werken aan jouw vooruitgang fijner? Kijk dan op https://www.voeljegoedcoaching.nl
URL:https://www.voeljegoedcoaching.nl/event/creatieve-coachingsworkshop-blossom-2/
CATEGORIES:coaching,creativitiet,Eigenwaarde,kracht,ontspanning,workshop,Zelfvertrouwen
ATTACH;FMTTYPE=image/jpeg:https://www.voeljegoedcoaching.nl/wp-content/uploads/2015/06/poppy-805584_1280-e1455742560688.jpg
END:VEVENT
BEGIN:VEVENT
DTSTART;TZID=UTC:20240213T103000
DTEND;TZID=UTC:20240213T123000
DTSTAMP:20260420T101139
CREATED:20240119T150046Z
LAST-MODIFIED:20240119T150046Z
UID:2547-1707820200-1707827400@www.voeljegoedcoaching.nl
SUMMARY:Workshop Becoming
DESCRIPTION:Ontdek meer eigenwaarde en zelfvertrouwen. Ga voelen dat jij jouw ruimte mag innemen. Laat je stem meer en meer horen. En voel de positieve bijdrage die jij te brengen hebt\, het moois van jouw verhaal. \nVan verleden naar nu. In vertrouwen de toekomst tegemoet. \nWe doen opdrachten uit het boek “Becoming” van Michelle Obama en werken met oefeningen en materiaal van Voel je goed coaching. \nJe gaat gesterkt en geïnspireerd naar huis. \nOpgave: mail “Becoming” naar info@voeljegoedcoaching.nl \nBenieuwd naar meer van dit soort workshops? \nKijk op https://www.voeljegoedcoaching.nl/workshops \nLiever individuele coaching? Maak een afspraak via het onlineplansysteem op mijn homepage: https://www.voeljegoedcoaching.nl of mail naar info@voeljegoedcoaching.nl \nWelkom. \n 
URL:https://www.voeljegoedcoaching.nl/event/workshop-becoming/
LOCATION:Krimpen aan den IJssel
ATTACH;FMTTYPE=image/webp:https://www.voeljegoedcoaching.nl/wp-content/uploads/2024/01/IMG_20240119_072552_759.webp
END:VEVENT
BEGIN:VEVENT
DTSTART;TZID=UTC:20240125T133000
DTEND;TZID=UTC:20240125T153000
DTSTAMP:20260420T101139
CREATED:20240119T143222Z
LAST-MODIFIED:20240119T151328Z
UID:2538-1706189400-1706196600@www.voeljegoedcoaching.nl
SUMMARY:Workshop Your journal\, your boost
DESCRIPTION:  \nHeb jij het journallen al ontdekt? Het maken van een journal pagina kan je veel brengen\, zeker als je deze workshop gaat doen! Tijdens de workshop laten we onze gedachten gaan over hoe we meer rust\, meer vibe is ons leven kunnen brengen. We doen twee fijne oefeningen\, één in ontspanning en één meer actief. Ook nemen we “The confidence journal” erbij\, wat kunnen we daaruit gebruiken? We bekijken voorbeelden en materialen\, er is van alles aanwezig dat je vrijuit kunt gebruiken. Je kunt je eigen journal meenemen of werken op een los blad van hier. Dus…aan de slag.\nMet plaatjes\, stickers\, stempels\, eigen tekeningen en tekst (alles naar eigen keuze) maak jij je eigen pagina. Waaraan je steunt hebt. Die jou laat sprankelen. Waar je steeds naar terug kunt kijken om dat weer te voelen. En wie weet heb je een werkwijze ontdekt om vaker toe te passen. Om jezelf te ontspannen. En te inspireren.\nJe hoeft geen mooi resultaat te maken\, het gaat erom dat je met positiviteit over de inhoud van je pagina naar huis gaat\, en dat zal zo zijn. \nOpgave: mail “journal” naar info@voeljegoedcoaching.nl \nJe ontvangt dan ook bericht over de precieze locatie. \nMeer van dit soort workshops vind je op \nhttps://www.voeljegoedcoaching.nl/creatieve-coachingsworkshops \nLiever individuele coaching? \nMaak een afspraak via het handige online plansysteem of mail naar info@voeljegoedcoaching.nl \nVan harte welkom.
URL:https://www.voeljegoedcoaching.nl/event/workshop-your-journal-your-boost-2/
LOCATION:Krimpen aan den IJssel
ATTACH;FMTTYPE=image/jpeg:https://www.voeljegoedcoaching.nl/wp-content/uploads/2024/01/IMG_20240117_133058_388-scaled.jpg
END:VEVENT
END:VCALENDAR