BEGIN:VCALENDAR
VERSION:2.0
PRODID:-//Voel je goed coaching - ECPv6.15.20//NONSGML v1.0//EN
CALSCALE:GREGORIAN
METHOD:PUBLISH
X-WR-CALNAME:Voel je goed coaching
X-ORIGINAL-URL:https://www.voeljegoedcoaching.nl
X-WR-CALDESC:Evenementen voor Voel je goed coaching
REFRESH-INTERVAL;VALUE=DURATION:PT1H
X-Robots-Tag:noindex
X-PUBLISHED-TTL:PT1H
BEGIN:VTIMEZONE
TZID:UTC
BEGIN:STANDARD
TZOFFSETFROM:+0000
TZOFFSETTO:+0000
TZNAME:UTC
DTSTART:20220101T000000
END:STANDARD
END:VTIMEZONE
BEGIN:VEVENT
DTSTART;TZID=UTC:20231109T133000
DTEND;TZID=UTC:20231109T153000
DTSTAMP:20260420T100841
CREATED:20231012T100619Z
LAST-MODIFIED:20231012T101637Z
UID:2405-1699536600-1699543800@www.voeljegoedcoaching.nl
SUMMARY:Creatieve coachingsworkshop: herfstbloei
DESCRIPTION:Waar denk jij aan bij herfst? De tijd van slechter weer\, eerder donker\, vallende bladeren?…De tijd van loslaten\, kleur\, het binnen gezellig maken? In deze workshop geven we waarde aan de herfst. We ontdekken wat we los willen laten. Hoeveel er gebeurt in de grond\, in jouw grond\, als voorbereiding. Want in de herfst is jouw groei al bezig…op weg naar bloei. \nNa een betekenisvol kort herfstverhaal doen we 2 fijne oefeningen om tot jezelf te komen\, te ontspannen\, los te laten\, En je te richten op jouw bloei. \nEn dan: creatief aan de slag. Je geeft vorm aan jouw herfstbloei\, op de manier die jij wilt. Ga je tekenen\, waterverven\, handletteren\, stempelen\, wax seals maken? Al het materiaal ligt klaar. Je hoeft hierin geen ervaring te hebben\, het gaat om het plezier van iets maken. Jouw creatie blijft een mooie reminder voor jouw bloei\, jouw sparkle\, jouw drive. \nWelkom bij deze nieuwe creatieve coachingsworkshop. \nLet op: op deze datum is er nog beperkt plaats\, dus geef je snel op. \nVanaf 2 personen kan je deze workshop ook samen bij mij boeken op een voor jou handige datum\, mail me even om hiervoor een afspraak te maken. \nDe investering in jezelf is 45 euro\, inclusief het gebruik van materiaal\, koffie/thee/water en iets erbij. \nVraag ook gerust naar mijn eerder gegeven creatieve workshops: Teken je leven/toekomst en your journal\, your boost.
URL:https://www.voeljegoedcoaching.nl/event/creatieve-coachingsworkshop-herfstbloei/
ATTACH;FMTTYPE=image/jpeg:https://www.voeljegoedcoaching.nl/wp-content/uploads/2023/10/trail-M-pnbmBmU90-unsplash-scaled.jpg
END:VEVENT
END:VCALENDAR